BEGIN:VCALENDAR
VERSION:2.0
PRODID:-//Yii2 Events//EN
BEGIN:VEVENT
UID:69ec1981e332d@izobrazevanje-je-svobodno.eventure.si
DTSTAMP:20260425T013145Z
DTSTART:20260427T100000
DTEND:20260427T110000
SUMMARY:Spoznajte platformo Eventure.si - online predstavitev
DESCRIPTION:Kratka 30-minutna online predstavitev platforme Eventure.si. Brezplačno\, sproščeno\, brez obveznosti.
LOCATION:Spletni događaj (Meet)
URL:https://izobrazevanje-je-svobodno.eventure.si/hr/event/spoznajte-platformo-eventure-online-predstavitev-2026-05
END:VEVENT
END:VCALENDAR
